BEGIN:VCALENDAR
VERSION:2.0
PRODID:-//Chamai - ECPv6.7.0//NONSGML v1.0//EN
CALSCALE:GREGORIAN
METHOD:PUBLISH
X-ORIGINAL-URL:https://chamai.be
X-WR-CALDESC:Evenementen voor Chamai
REFRESH-INTERVAL;VALUE=DURATION:PT1H
X-Robots-Tag:noindex
X-PUBLISHED-TTL:PT1H
BEGIN:VTIMEZONE
TZID:Europe/Brussels
BEGIN:DAYLIGHT
TZOFFSETFROM:+0100
TZOFFSETTO:+0200
TZNAME:CEST
DTSTART:20260329T010000
END:DAYLIGHT
BEGIN:STANDARD
TZOFFSETFROM:+0200
TZOFFSETTO:+0100
TZNAME:CET
DTSTART:20261025T010000
END:STANDARD
END:VTIMEZONE
BEGIN:VEVENT
DTSTART;TZID=Europe/Brussels:20260514T120000
DTEND;TZID=Europe/Brussels:20260517T160000
DTSTAMP:20260422T123645
CREATED:20260316T093306Z
LAST-MODIFIED:20260415T072452Z
UID:39095-1778760000-1779033600@chamai.be
SUMMARY:Steen - Ancestrale & druidische vaardigheden weekend - 14 tot 17 mei 2026 - LAATSTE PLEK
DESCRIPTION:De kracht van Steen \nIn het leven van onze voorouders nam Steen een belangrijke plaats in. Steen was belangrijk voor het vervaardigen van gereedschappen\, voor het jagen\, het verwerken van voedsel\, als bouw werktuigen én voor het maken van Vuur. Zonder Steen zou het leven van onze voorouders er heel anders uitgezien hebben. Steen bewerking zat verwoven in alle aspecten van ons leven als voedsel verzamelaars. \nTijdens dit weekend leven we in het bos in een kleine tribe en verbinden we opnieuw met de kracht van Steen. \nWe leren over de oude manieren van vuursteen bewerking: directe en indirecte percussie\, met de drevel\,.. Je maakt je eigen klingen en messen\, speerpunten\, gravers\, krabbers en nog veel meer. \nWe verdiepen ons in de oude wijsheid van de Stenen vanuit de druidische traditie van onze streken en verbinden met de Stenen via rituelen en begeleide reizen. \nDaarnaast geniet je van een fijn en ontspannend weekend buiten in een kleine groep in een prachtig waterrijk bos in de Ardennen. \nHet weekend wordt begeleid door drie ervaren begeleiders: Werner Pfeifer\, steentijd leraar die je de ancestrale vaardigheden leert. Stefaan Loncke die de druidische traditie en rituelen begeleidt en Sophie Vandenkerchove die haar kennis en wijsheid van de bossen deelt en haar voorouderlijke plek in de Ardennen. \nDe begeleiding gebeurd in het Engels door Werner en Nederlands door Stefaan. Ook van harte welkom als je Engels niet perfect is\, we kunnen tussendoor vertalen. \nDit weekend is onderdeel van het Way of Ancestors jaartraject dat plaatsvindt in onze bossen. Als je graag aan de vier weekenden deelneemt in elk seizoen voor een mindere prijs\, welkom: meer info hier \n\nDe andere weekenden van het trajet kunnen ook los gevolgd worden: \nVUUR – 26 tot 29 maart 2026: meer info hier \nBOOGBOUW: 6 tot 9 augustus 2026: meer info hier \nKERAMIEK & LEDER – 8 tot 11 oktober 2026: meer info hier  \n\n\nVerblijf\n \nTijdens de weekenden verblijven we in één van onze goed uitgeruste basecamps in het bos. Buitendouche en composttoilet zijn ter plekke aanwezig. Je overnacht tijdens de weekenden in je eigen shelter of hangmat. Lekkere paleo maaltijden worden voorzien. Lessen en rituelen vinden plaats onder een open shelter rond het centrale vuur. \n \nInschrijvingen & prijzen \n Inschrijven voor het weekend verloopt via het volgende inschrijvingsformulier. \nStandaard prijs: 590 euro \nSupporter & Business prijs (als je een factuur wens voor je onderneming of iemand wil ondersteunen die het financieel moeilijk heeft): 590 euro + BTW\n\nJe bent volledig ingeschreven wanneer je het inschrijvingsgeld hebt overgeschreven naar de volgende rekening: BE12 7340 4886 7292 – Sophie Vandenkerchove\, met vermelding “Steen weekend”. \nDeelname aan sociaal tarief (490 euro) is mogelijk op aanvraag via email voor max. 2 personen. Stuur ons een mailtje via chamaicentre@gmail.com als je hier aanspraak op wilt maken. \n(*) Bij inschrijving verbindt je ertoe om deel te nemen aan het weekend. Indien het weekend door het organiserende team geannuleerd dient te worden\, wordt een andere datum in samenspraak met de groep voorzien. Bij gemiste deelname of annulering kan je bijdrage niet terugbetaald worden\, behalve als je zelf een vervangende deelnemer kan vinden. \n\nBegeleiding \nWerner Pfeifer \n \nWerner Pfeifer groeide op in Namibië. Als kind wandelde hij al alleen door de bush\, samen met zijn hond. Hij leerde zichzelf te jagen en deed dit vele jaren. Later reisde hij regelmatig door het land en verbleef bij de inheemse San Bushmen jager verzamelaars. Van Ole Nielsen leerde hij de traditionele boogbouw in Denemarken en hij specialiseerde zich uiteindelijk in het maken van replica’s van de Noord-Europese Steentijd. \nSamen met zijn collega Gianluca Massalini begeleidde hij verschillende Steentijd immersies en hij is mede-oprichter van de Lithica bijeenkomst\, die elk jaar doorgaat in Zweden. \nSinds enkele jaren leeft Werner in het Steentijddorp in Dithmarschen\, Duitsland. Daar leeft hij niet enkel in de Steentijd\, maar begeleidt hij ook groepen en leert hen ancestrale vaardigheden zoals boogbouw\, weven met natuurlijke materialen\, vuur door frictie en nog veel meer. \nStefaan Loncke \n \nStefaan Loncke werd geïnitieerd in 1989\, sinds 1995 traditioneel opgeleid en is houder van oude mondelinge overleveringen\, lineage- en priesterwijdingen. Sinds 2013 is hij lid van de Order of Bards Ovates and Druids. Samen met zijn vrouw Cin stichtte hij in 2014 Ahawa\, Huis voor Levensverdieping\, waar hij de oude sjamanistische en druïdische traditie doorgeeft\, alsook de maan-\, seizoen-\, huwelijk-\, doop- en begrafenis ceremonies brengt\, individuele healing en begeleiding geeft. \n\nSophie Vandenkerchove \n \n  Sophie is diep verbonden met innerlijke en uiterlijke Wilde Natuur. Ze volgde opleiding als Wilderness Rites of passage Guide aan de School of Lost Borders in Californië. Ze ontving verschillende wijdingen in het Druïdisme en Keltisch Sjamanisme en beoefent al sinds vele jaren Zen meditatie in de Koreaanse traditie. Het liefste van al\, is Sophie in het bos te vinden of wandelt ze de pelgrimsroutes in de Ardennen\, waar ze haar meest diepgaande inzichten heeft ontvangen over het leven. Sophie groeide op in de bossen van de Belgische Ardennen\, waar ze als kind een sterke band met het land van haar voorouders kende. Na het zwerven door wilde plekken in de steden\, verhuisde ze terug naar het dorp van haar voorouders. Daar richtte ze Chamai op\, een retraite centrum waar ze opleidingen\, Vision Quests en weekenden in de natuur organiseert en begeleidt. \n 
URL:https://chamai.be/event/steen/
CATEGORIES:Rewilding,Rites of Passage & Ceremonie,Weekenden,Weekenden
ATTACH;FMTTYPE=image/jpeg:https://chamai.be/wp-content/uploads/2026/03/20230213_142234.jpeg
END:VEVENT
BEGIN:VEVENT
DTSTART;TZID=Europe/Brussels:20260529T150000
DTEND;TZID=Europe/Brussels:20260531T150000
DTSTAMP:20260422T123645
CREATED:20220915T114327Z
LAST-MODIFIED:20260105T130841Z
UID:33704-1780066800-1780239600@chamai.be
SUMMARY:Earth Solo - 24u Vision Quest in het bos - 29 tot 31 mei 2026
DESCRIPTION:Duizenden jaren lang hebben natuur volkeren waardevolle manieren gecreeërd om de belangrijkste overgangen in een menselijk leven te vieren. In een tijd waarin onze hedendaagse cultuur aan zingeving mist\, biedt de herinnering aan deze ceremonies enorme mogelijkheden om de meest ingrijpende veranderingen in ons leven een plek te kunnen geven. \nDe Earth Solo is een hedendaagse versie van zo’n overgangsritueel of Vision Quest. Door alleen tijd door te brengen in de natuur kom je terug tot de essentie van waar je voor wilt staan in je leven\, wie je daadwerkelijk bent en welk pad je graag wilt bewandelen. \nZo een Solo kan op elk moment in je leven gedaan worden. Het is ideaal als je een grote verandering meer plaats wilt geven in je leven (bv. binnen je relatie\, je gezin of je werk)\, een nieuwe rol wilt aannemen\, een persoonlijke uitdaging wilt aangaan of duidelijkheid wilt krijgen over een onderwerp dat je al lang bezighoudt. Een Solo wil persoonlijke groei en transformatie een extra duwtje geven in de rug\, op de zachte maneir. Tijdens de reis zal de Spiegel van de Natuur en de steun van de Gemeenschap je gids zijn naar meer zelfinzicht en helderheid over je levenspad. \nWat kan je verwachten tijdens de Solo \nTijdens de Solo breng je 24 uur door in een afgelegen bosrijke vallei van Chamai in de Ardennen\, alleen\, zonder contact met de buitenwereld en zonder afleidingen. \nDe eerste dag komen we samen bij Chamai\, maken we kennis met elkaar en beginnen we met de eerste voorbereidingen voor je solo tijd in het bos via het Vier Richtingen model. Op de tweede dag in de ochtend vertrekken we naar het basecamp in het bos. We verdiepen samen je intentie\, tot die glashelder is voor jou. \nDan stap je over de drempel\, de ceremonie binnen. \nJe brengt een middag\, een nacht en een ochtend alleen in het bos door\, met alleen het hoognodige. Dit is een tijd om intiem ontvankelijk te worden voor je eigen leven en je plaats in te nemen tussen de andere natuurwezens in het bos. Je wordt tijdens de ceremonie ondersteund door de begeleiders die wachten op je terugkeer in het nabije basecamp in het bos. We verwelkomen je terug in de gemeenschap van mensen met een heerlijke brunch. \nDaarna beginnen we met het delen van de verhalen van onze Solo tijd. Dit is een van de meest ontroerende en hartverwarmende aspecten van de reis samen: getuige zijn en bevestigd worden van elkaars essentie als mensen. Tenslotte nemen we de tijd om de overgang van je Solo ervaring naar je dagelijkse leven op een zachte manier te maken. \n\nVerblijf \nTijdens de voorbereiding en integratie van je Solo overnacht je in de privé bossen van Chamai in je eigen tent. Als je geen eigen tent hebt\, kan je van ons een hangmat en tarp lenen. Laat dit even op voorhand weten als je er een wenst te lenen bij je inschrijving. We voorzien elke dag heerlijke vegetarische maaltijden met kruiden en groentjes uit eigen tuin. Als je graag regelmatig tussendoor snacks eet\, neem dan zeker het nodige voor jezelf mee\, of eventueel om met de groep te delen. Thee\, koffie en water worden steeds voorzien. \nInschrijving en prijzen \nStandaard prijs: 590 euro \nSupporter & business prijs (als je een factuur wil voor je onderneming of iemand wilt ondersteunen die het financieel moeilijk heeft): 590 euro + 21% erbij \nSociaal tarief: enkel op aanvraag via email: 490 euro\n \nJe inschrijving is volledig\, zodra je het volgende inschrijvingsformulier hebt ingevuld en het volledige inschrijvingsbedrag hebt overgeschreven via volgende rekening: BE12 7340 4886 7292 – Sophie Vandenkerchove\, met vermelding “Earth Solo 2024” \nBij annulering van je deelname\, wordt een deel van je bijdrage ingehouden\, om de administratieve kosten te dekken van je annulering. Twee maanden vooraf wordt 50% van je bijdrage teruggehouden\, één maand vooraf 75% en minder als een maand vooraf het volledige bedrag. Als je een vervangende deelnemer kan vinden\, wordt je deelname wel volledig terugbetaald. Als de retraite door organisatorische redenen moet geannuleerd worden\, word je inschrijving altijd volledig terugbetaald. \n  \n  Begeleiding \n   \nSophie Vandenkerchove \nSophie voelt zich diep verbonden met innerlijke en uiterlijke Wilde Natuur. Ze beoefent sinds vele jaren Zen meditatie in de Koreaanse traditie en ontving verschillende wijdingen in het Druïdisme en Keltisch Sjamanisme van eigen streek. Daarnaast volgde opleiding als Wilderness Rites of passage Guide aan de School of Lost Borders in Californië. Het liefste van al\, is Sophie in het bos te vinden of wandelt ze de pelgrimsroutes in de Ardennen\, waar ze haar meest diepgaande inzichten heeft ontvangen over het leven. Sophie groeide op in de bossen van de Ardennen\, waar ze als kind een sterke verbinding met het land van haar voorouders kende. Na het zwerven door wilde plekken in de steden\, verhuisde ze terug naar het dorp van haar voorouders. Daar richtte ze Chamai op\, een retraite centrum waar ze opleidingen\, Vision Quests en weekenden in de natuur begeleidt. \n  \n 
URL:https://chamai.be/event/wild-earth-solo-zomer-2023/
CATEGORIES:Rewilding,Rites of Passage & Ceremonie,Stilte,Weekenden
ATTACH;FMTTYPE=image/jpeg:https://chamai.be/wp-content/uploads/2023/05/217391758_396737181816779_510406778020323928_n.jpg
END:VEVENT
BEGIN:VEVENT
DTSTART;TZID=Europe/Brussels:20260723T150000
DTEND;TZID=Europe/Brussels:20260726T150000
DTSTAMP:20260422T123645
CREATED:20241226T080508Z
LAST-MODIFIED:20260401T143150Z
UID:38018-1784818800-1785078000@chamai.be
SUMMARY:Call of the Wild vierdaagse - 23 tot 26 juli 2026
DESCRIPTION:In de oude tijden leefden de mensen in diepe verbinding met het land. \nZe waren diep verbonden met haar voor hun bestaan en kenden de diepe wijsheden die zij hun bracht. Rituele gebruiken en praktische gebruiken vervloeiden in elkaar\, verhalen en kennis ook. Deze gaven een diepe betekenis aan het leven van de mensen. \nTijdens deze vierdaagse bewandelen we opnieuw dit pad samen en plukken we de vruchten om zo weer balans te brengen in ons moderne leven en terug voeling te krijgen met onze natuur. \nWe maken kennis met het pad van de kruiden en zetten de eerste stappen in het verbinden met de wijsheid van de planten. Daarnaast zijn we bezig met primitieve vaardigheden: vuurboog oefenen\, natuurlijke tondels verzamelen\, hout snijtechnieken\, shelters bouwen\, touw maken met vezels uit de natuur\,.. Daarnaast leer je ook bewust aanwezig zijn in het bos\, traag bewegen om dieren te spotten\,.. \nTijdens de vierdaage is er ook ruimte voor tijd alleen in het bos\, delen we gezellig onze verhalen uit het bos rond een kampvuur\, zijn we bezig met rituelen of ceremonie. \nDeze vierdaagse is ideaal voor jou als je graag eens een weekendje tussenuit wil en volop genieten van samenzijn en natuur in al haar facetten. Als je graag in je vrije tijd praktisch bezig bent\, kan je gerust ook een persoonlijk projectje meebrengen tijdens de vierdaagse (houtsnijwerk\, sjamanistisch voorwerp waar je verder aan wilt werken\, weefwerkje\, keramiek\,..) \nVerblijf\n \nTijdens de weekenden verblijven we in één van onze basecamps in onze bossen. Buitendouche en composttoilet zijn aanwezig. Je overnacht tijdens de weekenden in je eigen shelter of hangmat. Lekkere vegetarische maaltijden worden voorzien. \nWe werken bewust met een klein groepje van max. 6 deelnemers voor dit weekend. \nInschrijving en prijzen \nStandaard prijs: 490 euro \nSupporter Business prijs (als je een factuur wens voor je onderneming): 490 euro + 21% \nInschrijven voor de jaaropleiding kan je door het inschrijvingsformulier in te vullen. \nJe bent pas helemaal ingeschreven wanneer je het inschrijvingsgeld hebt overgeschreven naar de volgende rekening: Sophie Vandenkerchove – BE12 7340 4886 7292\, met vermelding “Call of the Wild vierdaagse″ \nBij annulering van je deelname\, wordt een deel van je bijdrage ingehouden\, om de administratieve kosten te dekken van je annulering. Twee maanden vooraf wordt 50% van je bijdrage teruggehouden\, één maand vooraf 75% en minder als een maand vooraf het volledige bedrag\, mits je geen vervangende deelnemer kan vinden. Als de retraite door organisatorische redenen moet geannuleerd worden\, word je inschrijving terugbetaald. \nDeelname aan sociaal tarief is enkel mogelijk op aanvraag via email voor max. 2 personen (450 euro). Stuur ons een mailtje via chamaicentre@gmail.com als je hier aanspraak op wilt maken. \nBegeleiding \n\n\nSophie Vandenkerchove\n\nSophie is diep verbonden met innerlijke en uiterlijke Wilde Natuur. Ze beoefent sinds vele jaren Zen meditatie in de Koreaanse traditie en ontving verschillende wijdingen in het Druïdisme en Keltisch Sjamanisme van eigen streek. Ze heeft al jarenlang een passie voor eetbare en geneeskrachtige planten en verbindt deze met een intuïtieve en rituele benaderingswijze van de planten. Daarnaast volgde ze opleiding als Wilderness Rites of passage Guide aan de School of Lost Borders in Californië. Sophie groeide op in de bossen van de Ardennen\, waar ze als kind een sterke verbinding met het land van haar voorouders kende. Na het zwerven door wilde plekken in de steden\, verhuisde ze terug naar het dorp van haar voorouders. Daar richtte ze Chamai op\, een natuur retraite centrum waar ze opleidingen\, Vision Quests en weekenden in de natuur begeleidt. \nwww.chamai.be
URL:https://chamai.be/event/the-call-of-the-wild-sacred-nature-weekend-21-tot-23-februari-2025/
CATEGORIES:Rewilding,Rites of Passage & Ceremonie,Stilte,Weekenden,Wildpluk
ATTACH;FMTTYPE=image/jpeg:https://chamai.be/wp-content/uploads/2022/01/unnamed-17.jpg
END:VEVENT
BEGIN:VEVENT
DTSTART;TZID=Europe/Brussels:20260806T120000
DTEND;TZID=Europe/Brussels:20260809T160000
DTSTAMP:20260422T123645
CREATED:20260316T094715Z
LAST-MODIFIED:20260401T112945Z
UID:39103-1786017600-1786291200@chamai.be
SUMMARY:Boogbouw - Ancestrale & druidische vaardigheden weekend - 6 tot 9 augustus 2026 - LAATSTE PLEK
DESCRIPTION:De kracht van de Boog \nIn het leven van onze voorouders nam de Boog een belangrijke plaats in. Het was één van werktuigen zonder welke onze voorouders het jagen en overleven erg moeilijk zou geweest zijn. De boog heeft een hele diepe symboliek in onze streken. \nTijdens dit weekend leven we in het bos in een kleine tribe en vervaardigen we onze eigen traditionele pijl en boog. \nJe leert over alle stappen van het maken van een boog: houtbewerking\, afspannen van de boog\, bevestiging van de pezen\, het maken van een pijl met stenen pijlpunt\, lijmen en veren.  \nWe verdiepen ons in de oude wijsheid van de Boog vanuit de druidische traditie en wijden onze bogen in met een oud ritueel.\nJe leert verschillende schiettechnieken en oefen je met je eigen boog. \nDaarnaast geniet je van een fijn en ontspannend weekend buiten in een kleine groep in een prachtig waterrijk bos in de Ardennen. \nHet weekend wordt begeleid door drie ervaren begeleiders: Werner Pfeifer\, steentijd leraar die je de ancestrale vaardigheden leert. Stefaan Loncke die de druidische traditie en rituelen begeleidt en Sophie Vandenkerchove die haar kennis en wijsheid van de bossen deelt en haar voorouderlijke plek in de Ardennen. \nDe begeleiding gebeurd in het Engels door Werner en Nederlands door Stefaan. Ook van harte welkom als je Engels niet perfect is\, we kunnen tussendoor vertalen. \nDit weekend is onderdeel van het Way of Ancestors jaartraject dat plaatsvindt in onze bossen. Als je graag aan de vier weekenden deelneemt in elk seizoen voor een mindere prijs\, welkom: meer info hier \n\nDe andere weekenden van het trajet kunnen ook los gevolgd worden: \nVUUR – 26 tot 29 maart 2026: meer info hier \nSTEEN – 14 tot 17 mei 2026: meer info hier \n\n\nKERAMIEK & LEDER – 8 tot 11 oktober 2026: meer info hier  \n\n\nVerblijf\n \nTijdens de weekenden verblijven we in één van onze goed uitgeruste basecamps in het bos. Buitendouche en composttoilet zijn ter plekke aanwezig. Je overnacht tijdens de weekenden in je eigen shelter of hangmat. Lekkere paleo maaltijden worden voorzien. Lessen en rituelen vinden plaats onder een open shelter rond het centrale vuur. \n \nInschrijvingen & prijzen \n Inschrijven voor het weekend verloopt via het volgende inschrijvingsformulier. \nStandaard prijs: 590 euro \nSupporter & Business prijs (als je een factuur wens voor je onderneming of iemand wil ondersteunen die het financieel moeilijk heeft): 590 euro + BTW\n\nJe bent volledig ingeschreven wanneer je het inschrijvingsgeld hebt overgeschreven naar de volgende rekening: BE12 7340 4886 7292 – Sophie Vandenkerchove\, met vermelding “Boog weekend”. \nDeelname aan sociaal tarief (490 euro) is mogelijk op aanvraag via email voor max. 2 personen. Stuur ons een mailtje via chamaicentre@gmail.com als je hier aanspraak op wilt maken. \n(*) Bij inschrijving verbindt je ertoe om deel te nemen aan het weekend. Indien het weekend door het organiserende team geannuleerd dient te worden\, wordt een andere datum in samenspraak met de groep voorzien. Bij gemiste deelname of annulering kan je bijdrage niet terugbetaald worden\, behalve als je zelf een vervangende deelnemer kan vinden. \n\nBegeleiding \nWerner Pfeifer \n \nWerner Pfeifer groeide op in Namibië. Als kind wandelde hij al alleen door de bush\, samen met zijn hond. Hij leerde zichzelf te jagen en deed dit vele jaren. Later reisde hij regelmatig door het land en verbleef bij de inheemse San Bushmen jager verzamelaars. Van Ole Nielsen leerde hij de traditionele boogbouw in Denemarken en hij specialiseerde zich uiteindelijk in het maken van replica’s van de Noord-Europese Steentijd. \nSamen met zijn collega Gianluca Massalini begeleidde hij verschillende Steentijd immersies en hij is mede-oprichter van de Lithica bijeenkomst\, die elk jaar doorgaat in Zweden. \nSinds enkele jaren leeft Werner in het Steentijddorp in Dithmarschen\, Duitsland. Daar leeft hij niet enkel in de Steentijd\, maar begeleidt hij ook groepen en leert hen ancestrale vaardigheden zoals boogbouw\, weven met natuurlijke materialen\, vuur door frictie en nog veel meer. \nStefaan Loncke \n \nStefaan Loncke werd geïnitieerd in 1989\, sinds 1995 traditioneel opgeleid en is houder van oude mondelinge overleveringen\, lineage- en priesterwijdingen. Sinds 2013 is hij lid van de Order of Bards Ovates and Druids. Samen met zijn vrouw Cin stichtte hij in 2014 Ahawa\, Huis voor Levensverdieping\, waar hij de oude sjamanistische en druïdische traditie doorgeeft\, alsook de maan-\, seizoen-\, huwelijk-\, doop- en begrafenis ceremonies brengt\, individuele healing en begeleiding geeft. \n\nSophie Vandenkerchove \n \n  Sophie is diep verbonden met innerlijke en uiterlijke Wilde Natuur. Ze volgde opleiding als Wilderness Rites of passage Guide aan de School of Lost Borders in Californië. Ze ontving verschillende wijdingen in het Druïdisme en Keltisch Sjamanisme en beoefent al sinds vele jaren Zen meditatie in de Koreaanse traditie. Het liefste van al\, is Sophie in het bos te vinden of wandelt ze de pelgrimsroutes in de Ardennen\, waar ze haar meest diepgaande inzichten heeft ontvangen over het leven. Sophie groeide op in de bossen van de Belgische Ardennen\, waar ze als kind een sterke band met het land van haar voorouders kende. Na het zwerven door wilde plekken in de steden\, verhuisde ze terug naar het dorp van haar voorouders. Daar richtte ze Chamai op\, een retraite centrum waar ze opleidingen\, Vision Quests en weekenden in de natuur organiseert en begeleidt. \n 
URL:https://chamai.be/event/boog-ancestrale-druidische-vaardigheden-weekend-6-tot-9-augustus-2026/
CATEGORIES:Rewilding,Rites of Passage & Ceremonie,Weekenden,Weekenden
ATTACH;FMTTYPE=image/jpeg:https://chamai.be/wp-content/uploads/2026/03/close-up-of-a-painting-on-a-rock-sevilla-rock-art-trail-traveller-s-rest-cederberg-mountains-clanwilliam-western-cape-province-south-africa-79588058-58e110c55f9b58ef7ef75317.jpeg
END:VEVENT
BEGIN:VEVENT
DTSTART;TZID=Europe/Brussels:20261008T120000
DTEND;TZID=Europe/Brussels:20261011T160000
DTSTAMP:20260422T123645
CREATED:20260316T100029Z
LAST-MODIFIED:20260316T135934Z
UID:39104-1791460800-1791734400@chamai.be
SUMMARY:Keramiek & Leder - Ancestrale & druidische vaardigheden weekend - 8 tot 11 oktober 2026
DESCRIPTION:De kracht van Keramiek & Leder \nIn het leven van onze voorouders namen Keramiek & Leder een belangrijke plaats in. Keramiek was belangrijk voor het bewaren van voedsel. Vuurvaste potten\, schalen\, kruiken maakten het mogelijk om voedsel op te warmen. Leder bewerking was dan weer belangrijk voor het creëren van kleren\, draagtassen\,.. Zij maakten het leven van alledag makkelijk voor onze voorouders. \nTijdens dit weekend leven we in het bos in een kleine tribe en verbinden we opnieuw met deze oude vaardigheden. \nJe leert over de oude manieren van keramiek branden in het vuur: we verzamelen de klei\, verwerken ze\, vormen onze creaties en gaan ze met onze eigen tekens branden. Daarnaast maken we met leder een eigen medicijntas of buidel. \nWe verdiepen ons in de oude wijsheid van Keramiek en Leder vanuit de druidische traditie van onze streken en bekrachtigen onze creaties via rituelen en begeleide reizen. \nDaarnaast geniet je van een fijn en ontspannend weekend buiten in een kleine groep in een prachtig waterrijk bos in de Ardennen. \nHet weekend wordt begeleid door drie ervaren begeleiders: Werner Pfeifer\, steentijd leraar die je de ancestrale vaardigheden leert. Stefaan Loncke die de druidische traditie en rituelen begeleidt en Sophie Vandenkerchove die haar kennis en wijsheid van de bossen deelt en haar voorouderlijke plek in de Ardennen. \nDe begeleiding gebeurd in het Engels door Werner en Nederlands door Stefaan. Ook van harte welkom als je Engels niet perfect is\, we kunnen tussendoor vertalen. \nDit weekend is onderdeel van het Way of Ancestors jaartraject dat plaatsvindt in onze bossen. Als je graag aan de vier weekenden deelneemt in elk seizoen voor een mindere prijs\, welkom: meer info hier \n\nDe andere weekenden van het trajet kunnen ook los gevolgd worden: \nVUUR – 26 tot 29 maart 2026: meer info hier \nSTEEN – 14 tot 16 mei 2026: meer info hier \nBOOGBOUW: 6 tot 9 augustus 2026: meer info hier \n\n\nVerblijf\n \nTijdens de weekenden verblijven we in één van onze goed uitgeruste basecamps in het bos. Buitendouche en composttoilet zijn ter plekke aanwezig. Je overnacht tijdens de weekenden in je eigen shelter of hangmat. Lekkere paleo maaltijden worden voorzien. Lessen en rituelen vinden plaats onder een open shelter rond het centrale vuur. \n \nInschrijvingen & prijzen \n Inschrijven voor het weekend verloopt via het volgende inschrijvingsformulier. \nStandaard prijs: 590 euro \nSupporter & Business prijs (als je een factuur wens voor je onderneming of iemand wil ondersteunen die het financieel moeilijk heeft): 590 euro + BTW\n\nJe bent volledig ingeschreven wanneer je het inschrijvingsgeld hebt overgeschreven naar de volgende rekening: BE12 7340 4886 7292 – Sophie Vandenkerchove\, met vermelding “Keramiek & Leder weekend”. \nDeelname aan sociaal tarief (490 euro) is mogelijk op aanvraag via email voor max. 2 personen. Stuur ons een mailtje via chamaicentre@gmail.com als je hier aanspraak op wilt maken. \n(*) Bij inschrijving verbindt je ertoe om deel te nemen aan het weekend. Indien het weekend door het organiserende team geannuleerd dient te worden\, wordt een andere datum in samenspraak met de groep voorzien. Bij gemiste deelname of annulering kan je bijdrage niet terugbetaald worden\, behalve als je zelf een vervangende deelnemer kan vinden. \n\nBegeleiding \nWerner Pfeifer \n \nWerner Pfeifer groeide op in Namibië. Als kind wandelde hij al alleen door de bush\, samen met zijn hond. Hij leerde zichzelf te jagen en deed dit vele jaren. Later reisde hij regelmatig door het land en verbleef bij de inheemse San Bushmen jager verzamelaars. Van Ole Nielsen leerde hij de traditionele boogbouw in Denemarken en hij specialiseerde zich uiteindelijk in het maken van replica’s van de Noord-Europese Steentijd. \nSamen met zijn collega Gianluca Massalini begeleidde hij verschillende Steentijd immersies en hij is mede-oprichter van de Lithica bijeenkomst\, die elk jaar doorgaat in Zweden. \nSinds enkele jaren leeft Werner in het Steentijddorp in Dithmarschen\, Duitsland. Daar leeft hij niet enkel in de Steentijd\, maar begeleidt hij ook groepen en leert hen ancestrale vaardigheden zoals boogbouw\, weven met natuurlijke materialen\, vuur door frictie en nog veel meer. \nStefaan Loncke \n \nStefaan Loncke werd geïnitieerd in 1989\, sinds 1995 traditioneel opgeleid en is houder van oude mondelinge overleveringen\, lineage- en priesterwijdingen. Sinds 2013 is hij lid van de Order of Bards Ovates and Druids. Samen met zijn vrouw Cin stichtte hij in 2014 Ahawa\, Huis voor Levensverdieping\, waar hij de oude sjamanistische en druïdische traditie doorgeeft\, alsook de maan-\, seizoen-\, huwelijk-\, doop- en begrafenis ceremonies brengt\, individuele healing en begeleiding geeft. \n\nSophie Vandenkerchove \n \n  Sophie is diep verbonden met innerlijke en uiterlijke Wilde Natuur. Ze volgde opleiding als Wilderness Rites of passage Guide aan de School of Lost Borders in Californië. Ze ontving verschillende wijdingen in het Druïdisme en Keltisch Sjamanisme en beoefent al sinds vele jaren Zen meditatie in de Koreaanse traditie. Het liefste van al\, is Sophie in het bos te vinden of wandelt ze de pelgrimsroutes in de Ardennen\, waar ze haar meest diepgaande inzichten heeft ontvangen over het leven. Sophie groeide op in de bossen van de Belgische Ardennen\, waar ze als kind een sterke band met het land van haar voorouders kende. Na het zwerven door wilde plekken in de steden\, verhuisde ze terug naar het dorp van haar voorouders. Daar richtte ze Chamai op\, een retraite centrum waar ze opleidingen\, Vision Quests en weekenden in de natuur organiseert en begeleidt. \n 
URL:https://chamai.be/event/keramiek-leder-ancestrale-druidische-vaardigheden-weekend-8-tot-11-oktober-2026/
CATEGORIES:Rewilding,Rites of Passage & Ceremonie,Weekenden,Weekenden
ATTACH;FMTTYPE=image/jpeg:https://chamai.be/wp-content/uploads/2026/03/DSCF1770.jpeg
END:VEVENT
END:VCALENDAR